Workbook

Sheet جدول الكميات
A1: رقم البند | B1: وصف البند | C1: الوحدة | D1: الكمية | E1: مرجع المخطط / الصفحة | F1: مواد / وحدة | G1: عمالة / وحدة | H1: معدات / وحدة | I1: التكلفة المباشرة / وحدة | J1: غير مباشرة / وحدة | K1: الربح / وحدة | L1: سعر الوحدة | M1: الإجمالي | N1: ملاحظات
A2: 1.1 | B2: خرسانة مسلحة للقواعد رتبة C30/37 شاملة حديد التسليح والشدات (مثال توضيحي، استبدله ببنود مشروعك) | C2: م³ | D2: 45 | E2: S-101 / ص 3 | F2: 520 | G2: 140 | H2: 60 | I2: =IF(COUNT(F2:H2)=0,"",SUM(F2:H2)) -> 720 | J2: =IF(I2="","",I2*الافتراضات!$B$3) -> 108 | K2: =IF(I2="","",(I2+J2)*الافتراضات!$B$4) -> 82.8 | L2: =IF(I2="","",I2+J2+K2) -> 910.8 | M2: =IF(OR(L2="",D2=""),"",ROUND(L2,2)*D2) -> 40986
I3: =IF(COUNT(F3:H3)=0,"",SUM(F3:H3)) | J3: =IF(I3="","",I3*الافتراضات!$B$3) | K3: =IF(I3="","",(I3+J3)*الافتراضات!$B$4) | L3: =IF(I3="","",I3+J3+K3) | M3: =IF(OR(L3="",D3=""),"",ROUND(L3,2)*D3)
I4: =IF(COUNT(F4:H4)=0,"",SUM(F4:H4)) | J4: =IF(I4="","",I4*الافتراضات!$B$3) | K4: =IF(I4="","",(I4+J4)*الافتراضات!$B$4) | L4: =IF(I4="","",I4+J4+K4) | M4: =IF(OR(L4="",D4=""),"",ROUND(L4,2)*D4)
I5: =IF(COUNT(F5:H5)=0,"",SUM(F5:H5)) | J5: =IF(I5="","",I5*الافتراضات!$B$3) | K5: =IF(I5="","",(I5+J5)*الافتراضات!$B$4) | L5: =IF(I5="","",I5+J5+K5) | M5: =IF(OR(L5="",D5=""),"",ROUND(L5,2)*D5)
I6: =IF(COUNT(F6:H6)=0,"",SUM(F6:H6)) | J6: =IF(I6="","",I6*الافتراضات!$B$3) | K6: =IF(I6="","",(I6+J6)*الافتراضات!$B$4) | L6: =IF(I6="","",I6+J6+K6) | M6: =IF(OR(L6="",D6=""),"",ROUND(L6,2)*D6)
I7: =IF(COUNT(F7:H7)=0,"",SUM(F7:H7)) | J7: =IF(I7="","",I7*الافتراضات!$B$3) | K7: =IF(I7="","",(I7+J7)*الافتراضات!$B$4) | L7: =IF(I7="","",I7+J7+K7) | M7: =IF(OR(L7="",D7=""),"",ROUND(L7,2)*D7)
I8: =IF(COUNT(F8:H8)=0,"",SUM(F8:H8)) | J8: =IF(I8="","",I8*الافتراضات!$B$3) | K8: =IF(I8="","",(I8+J8)*الافتراضات!$B$4) | L8: =IF(I8="","",I8+J8+K8) | M8: =IF(OR(L8="",D8=""),"",ROUND(L8,2)*D8)
I9: =IF(COUNT(F9:H9)=0,"",SUM(F9:H9)) | J9: =IF(I9="","",I9*الافتراضات!$B$3) | K9: =IF(I9="","",(I9+J9)*الافتراضات!$B$4) | L9: =IF(I9="","",I9+J9+K9) | M9: =IF(OR(L9="",D9=""),"",ROUND(L9,2)*D9)
I10: =IF(COUNT(F10:H10)=0,"",SUM(F10:H10)) | J10: =IF(I10="","",I10*الافتراضات!$B$3) | K10: =IF(I10="","",(I10+J10)*الافتراضات!$B$4) | L10: =IF(I10="","",I10+J10+K10) | M10: =IF(OR(L10="",D10=""),"",ROUND(L10,2)*D10)
I11: =IF(COUNT(F11:H11)=0,"",SUM(F11:H11)) | J11: =IF(I11="","",I11*الافتراضات!$B$3) | K11: =IF(I11="","",(I11+J11)*الافتراضات!$B$4) | L11: =IF(I11="","",I11+J11+K11) | M11: =IF(OR(L11="",D11=""),"",ROUND(L11,2)*D11)
I12: =IF(COUNT(F12:H12)=0,"",SUM(F12:H12)) | J12: =IF(I12="","",I12*الافتراضات!$B$3) | K12: =IF(I12="","",(I12+J12)*الافتراضات!$B$4) | L12: =IF(I12="","",I12+J12+K12) | M12: =IF(OR(L12="",D12=""),"",ROUND(L12,2)*D12)
I13: =IF(COUNT(F13:H13)=0,"",SUM(F13:H13)) | J13: =IF(I13="","",I13*الافتراضات!$B$3) | K13: =IF(I13="","",(I13+J13)*الافتراضات!$B$4) | L13: =IF(I13="","",I13+J13+K13) | M13: =IF(OR(L13="",D13=""),"",ROUND(L13,2)*D13)
I14: =IF(COUNT(F14:H14)=0,"",SUM(F14:H14)) | J14: =IF(I14="","",I14*الافتراضات!$B$3) | K14: =IF(I14="","",(I14+J14)*الافتراضات!$B$4) | L14: =IF(I14="","",I14+J14+K14) | M14: =IF(OR(L14="",D14=""),"",ROUND(L14,2)*D14)
... I41: =IF(COUNT(F41:H41)=0,"",SUM(F41:H41)) | J41: =IF(I41="","",I41*الافتراضات!$B$3) | K41: =IF(I41="","",(I41+J41)*الافتراضات!$B$4) | L41: =IF(I41="","",I41+J41+K41) | M41: =IF(OR(L41="",D41=""),"",ROUND(L41,2)*D41)
L42: الإجمالي قبل الضريبة | M42: =SUM(M2:M41) -> 40986
L43: ضريبة القيمة المضافة | M43: =M42*الافتراضات!$B$5 -> 6147.9
L44: الإجمالي شامل الضريبة | M44: =M42+M43 -> 47133.9

Sheet الافتراضات
A1: افتراضات التسعير: عدّل الخلايا الزرقاء فقط
A3: نسبة المصاريف غير المباشرة | B3: 0.15 | C3: إدارة وإشراف الموقع، مكاتب الموقع، التأمينات، الضمانات البنكية، السلامة
A4: نسبة الربح | B4: 0.1 | C4: تُضاف بعد المصاريف غير المباشرة
A5: نسبة ضريبة القيمة المضافة | B5: 0.15 | C5: النسبة المعمول بها في المملكة العربية السعودية، وعدّلها حسب بلد المشروع
A6: اسم المشروع
A7: تاريخ التسعير
A8: مصدر أسعار المواد وتاريخها
A11: مفتاح الألوان: أزرق = مدخلات · أسود = معادلات · أخضر = روابط من ورقة أخرى · تعبئة صفراء = خلايا للمراجعة
A12: سعر البيع = (مواد + عمالة + معدات) × (1 + نسبة غير المباشرة) × (1 + نسبة الربح)
A14: نموذج من المبدعون العرب (arabcreators.co)، ويُسمح باستخدامه وتعديله داخل مشروعاتك.

Sheet مرجع الأبعاد
A1: رقم البند | B1: العنصر | C1: الطول (م) | D1: العرض (م) | E1: الارتفاع/السمك (م) | F1: العدد | G1: الكمية المحسوبة | H1: رقم المخطط | I1: الصفحة | J1: ملاحظات
G2: =IF(COUNT(C2:F2)=0,"",PRODUCT(C2:F2)) | L2: كل كمية في جدول الكميات يجب أن يكون لها سطر هنا بمرجع المخطط والصفحة.
G3: =IF(COUNT(C3:F3)=0,"",PRODUCT(C3:F3))
G4: =IF(COUNT(C4:F4)=0,"",PRODUCT(C4:F4))
G5: =IF(COUNT(C5:F5)=0,"",PRODUCT(C5:F5))
G6: =IF(COUNT(C6:F6)=0,"",PRODUCT(C6:F6))
G7: =IF(COUNT(C7:F7)=0,"",PRODUCT(C7:F7))
G8: =IF(COUNT(C8:F8)=0,"",PRODUCT(C8:F8))
G9: =IF(COUNT(C9:F9)=0,"",PRODUCT(C9:F9))
G10: =IF(COUNT(C10:F10)=0,"",PRODUCT(C10:F10))
G11: =IF(COUNT(C11:F11)=0,"",PRODUCT(C11:F11))
G12: =IF(COUNT(C12:F12)=0,"",PRODUCT(C12:F12))
G13: =IF(COUNT(C13:F13)=0,"",PRODUCT(C13:F13))
G14: =IF(COUNT(C14:F14)=0,"",PRODUCT(C14:F14))
... G31: =IF(COUNT(C31:F31)=0,"",PRODUCT(C31:F31))
